BEGIN:VCALENDAR
VERSION:2.0
PRODID:-//Die Deutsche Waidmannsgilde e.V. - ECPv6.15.16//NONSGML v1.0//EN
CALSCALE:GREGORIAN
METHOD:PUBLISH
X-WR-CALNAME:Die Deutsche Waidmannsgilde e.V.
X-ORIGINAL-URL:https://waidmannsgilde.de
X-WR-CALDESC:Veranstaltungen für Die Deutsche Waidmannsgilde e.V.
REFRESH-INTERVAL;VALUE=DURATION:PT1H
X-Robots-Tag:noindex
X-PUBLISHED-TTL:PT1H
BEGIN:VTIMEZONE
TZID:Europe/Berlin
BEGIN:DAYLIGHT
TZOFFSETFROM:+0100
TZOFFSETTO:+0200
TZNAME:CEST
DTSTART:20250330T010000
END:DAYLIGHT
BEGIN:STANDARD
TZOFFSETFROM:+0200
TZOFFSETTO:+0100
TZNAME:CET
DTSTART:20251026T010000
END:STANDARD
BEGIN:DAYLIGHT
TZOFFSETFROM:+0100
TZOFFSETTO:+0200
TZNAME:CEST
DTSTART:20260329T010000
END:DAYLIGHT
BEGIN:STANDARD
TZOFFSETFROM:+0200
TZOFFSETTO:+0100
TZNAME:CET
DTSTART:20261025T010000
END:STANDARD
BEGIN:DAYLIGHT
TZOFFSETFROM:+0100
TZOFFSETTO:+0200
TZNAME:CEST
DTSTART:20270328T010000
END:DAYLIGHT
BEGIN:STANDARD
TZOFFSETFROM:+0200
TZOFFSETTO:+0100
TZNAME:CET
DTSTART:20271031T010000
END:STANDARD
END:VTIMEZONE
BEGIN:VEVENT
DTSTART;TZID=Europe/Berlin:20260503T090000
DTEND;TZID=Europe/Berlin:20260503T170000
DTSTAMP:20260421T111911
CREATED:20260323T160506Z
LAST-MODIFIED:20260323T160506Z
UID:4205-1777798800-1777827600@waidmannsgilde.de
SUMMARY:Familientag im Wildpark Poing
DESCRIPTION:Zum Stammtisch im Mai laden wir herzlich zum Familientag in den Wildpark Poing ein. \nWir werden gemeinsam den großen Rundweg gehen\, die Greifvogelshow ansehen und selbstverständlich auch Halt am Spielplatz machen. \nSonntag 03.05.2026 um 9 Uhr am Parkeingang \nim Wildpark Poing \nWildparkstraße 32\, 85586 Poing \nWir freuen uns über zahlreiche Familien\, Paare und auch Einzelpersonen\, die teilnehmen! \nBei schlechtem Wetter wird der Termin kurzfristig verschoben. \nDaher bitten wir um Anmeldung unter: jungjaeger@waidmannsgilde.de
URL:https://waidmannsgilde.de/termin/familientag-im-wildpark-poing-2/
LOCATION:Wildpark Poing\, Wildparkstraße 32\, Poing\, 85586\, Deutschland
END:VEVENT
END:VCALENDAR