BEGIN:VCALENDAR
VERSION:2.0
PRODID:-//Die Deutsche Waidmannsgilde e.V. - ECPv6.15.16//NONSGML v1.0//EN
CALSCALE:GREGORIAN
METHOD:PUBLISH
X-WR-CALNAME:Die Deutsche Waidmannsgilde e.V.
X-ORIGINAL-URL:https://waidmannsgilde.de
X-WR-CALDESC:Veranstaltungen für Die Deutsche Waidmannsgilde e.V.
REFRESH-INTERVAL;VALUE=DURATION:PT1H
X-Robots-Tag:noindex
X-PUBLISHED-TTL:PT1H
BEGIN:VTIMEZONE
TZID:Europe/Berlin
BEGIN:DAYLIGHT
TZOFFSETFROM:+0100
TZOFFSETTO:+0200
TZNAME:CEST
DTSTART:20240331T010000
END:DAYLIGHT
BEGIN:STANDARD
TZOFFSETFROM:+0200
TZOFFSETTO:+0100
TZNAME:CET
DTSTART:20241027T010000
END:STANDARD
BEGIN:DAYLIGHT
TZOFFSETFROM:+0100
TZOFFSETTO:+0200
TZNAME:CEST
DTSTART:20250330T010000
END:DAYLIGHT
BEGIN:STANDARD
TZOFFSETFROM:+0200
TZOFFSETTO:+0100
TZNAME:CET
DTSTART:20251026T010000
END:STANDARD
BEGIN:DAYLIGHT
TZOFFSETFROM:+0100
TZOFFSETTO:+0200
TZNAME:CEST
DTSTART:20260329T010000
END:DAYLIGHT
BEGIN:STANDARD
TZOFFSETFROM:+0200
TZOFFSETTO:+0100
TZNAME:CET
DTSTART:20261025T010000
END:STANDARD
END:VTIMEZONE
BEGIN:VEVENT
DTSTART;TZID=Europe/Berlin:20251025T100000
DTEND;TZID=Europe/Berlin:20251025T160000
DTSTAMP:20260421T100049
CREATED:20251019T114229Z
LAST-MODIFIED:20251019T114229Z
UID:4162-1761386400-1761408000@waidmannsgilde.de
SUMMARY:Herbstschießen Flinte 2025
DESCRIPTION:  \nAm 25.10.25 findet ein Herbstschießen mit der Flinte für alle Gilde-Mitglieder in Hattenhofen statt. \nTreffpunkt ist um 10 Uhr draußen auf der Terrasse vor dem Haupteingang. \nBei ausreichender Teilnehmeranzahl wird ein Wettbewerb um die Gilde-Trophäe „abstreichende Ente“ stattfinden. \nDazu wird eine festgelegte Reihenfolge von 60 Tauben geschossen werden. \nFür jedes Mitglied im Wettbewerb übernimmt die Gilde die Hälfte der zu schießenden Tauben (15 Euro). \nMunition muss selbst gestellt\, eine Flinte kann bei Bedarf ausgeliehen werden. \nWir bitten um verbindliche Anmeldung bis 23.10.25 an schiessreferent@waidmannsgilde.de
URL:https://waidmannsgilde.de/termin/herbstschiessen-flinte-2025/
LOCATION:Jagdparcour Oberbayern\, Ostermoos 1\, Hattenhofen\, 82285\, Deutschland
END:VEVENT
END:VCALENDAR