BEGIN:VCALENDAR
VERSION:2.0
PRODID:-//Die Deutsche Waidmannsgilde e.V. - ECPv6.15.16//NONSGML v1.0//EN
CALSCALE:GREGORIAN
METHOD:PUBLISH
X-ORIGINAL-URL:https://waidmannsgilde.de
X-WR-CALDESC:Veranstaltungen für Die Deutsche Waidmannsgilde e.V.
REFRESH-INTERVAL;VALUE=DURATION:PT1H
X-Robots-Tag:noindex
X-PUBLISHED-TTL:PT1H
BEGIN:VTIMEZONE
TZID:Europe/Berlin
BEGIN:DAYLIGHT
TZOFFSETFROM:+0100
TZOFFSETTO:+0200
TZNAME:CEST
DTSTART:20250330T010000
END:DAYLIGHT
BEGIN:STANDARD
TZOFFSETFROM:+0200
TZOFFSETTO:+0100
TZNAME:CET
DTSTART:20251026T010000
END:STANDARD
BEGIN:DAYLIGHT
TZOFFSETFROM:+0100
TZOFFSETTO:+0200
TZNAME:CEST
DTSTART:20260329T010000
END:DAYLIGHT
BEGIN:STANDARD
TZOFFSETFROM:+0200
TZOFFSETTO:+0100
TZNAME:CET
DTSTART:20261025T010000
END:STANDARD
BEGIN:DAYLIGHT
TZOFFSETFROM:+0100
TZOFFSETTO:+0200
TZNAME:CEST
DTSTART:20270328T010000
END:DAYLIGHT
BEGIN:STANDARD
TZOFFSETFROM:+0200
TZOFFSETTO:+0100
TZNAME:CET
DTSTART:20271031T010000
END:STANDARD
END:VTIMEZONE
BEGIN:VEVENT
DTSTART;TZID=Europe/Berlin:20260314T090000
DTEND;TZID=Europe/Berlin:20260314T130000
DTSTAMP:20260421T182934
CREATED:20260205T125304Z
LAST-MODIFIED:20260221T165908Z
UID:4193-1773478800-1773493200@waidmannsgilde.de
SUMMARY:Kurzwaffenschießen 2026
DESCRIPTION:Kurzwaffenschießen 2026\nMit Revolver und Pistole umgehen können und damit in Übung bleiben\, sollten wir alle.\nUnd wenn beim Üben auch noch eine Nadel herausspringt\, umso besser. \nWir laden deshalb auch in diesem Jahr wieder ein zum\nKurzwaffen-Schießen der ARGE \nam Samstag\, den 14.03.2026\nvon 9:00 – 13:00 Uhr\nin der Schießstätte Verein Hubertus Unterdill \nStartgeld: 15\,00 Euro (Nachkauf: 5\,00 Euro) \nAnmeldung: vor Ort ab 8.45 Uhr\, Meldeschluss: 12 Uhr \nAnforderungen: \n\nRevolver oder Pistole eines für den Fangschuss zugelassenen Kalibers\nEntfernung mindestens 10 m\nSchussfolge:\n3 Schuss auf eine Schwarzwildscheibe – mindestens zwei letale Treffer\n3 Schuss auf eine Rehwildscheibe – mindestens zwei letale Treffer\n3 Schuss auf eine Fuchsscheibe – mindestens zwei letale Treffer\nKann eine Teilübung nicht erfüllt werden\, sind alle 3 Schritte zu wiederholen. Eine Wiederholung ist jedoch beliebig oft möglich.\n\nNachweis:\nSie können sich Ihre Leistung auch im BJV-Übungsheft für das jagdpraktische Schießen dokumentieren lassen. \nHinweise:\nZum Schießen mit der eigenen Waffe ist ausreichend Munition mitzubringen. Es stehen Kurzwaffen des Vereins Hubertus gegen eine Leihgebühr von 5\,00 Euro zur Verfügung. Die erforderliche Munition für 9 Schuss kostet 5\,00 Euro. Teilnehmen kann nur\, wer einen gültigen Jagdschein oder einen aktuellen Ausbildungsnachweis vorlegt
URL:https://waidmannsgilde.de/termin/kurzwaffenschiessen-2026/
LOCATION:Schießstätte Verein Hubertus Unterdill\, Forstenrieder Allee 327\, München\, 81476
END:VEVENT
END:VCALENDAR