BEGIN:VCALENDAR
VERSION:2.0
PRODID:-//Die Deutsche Waidmannsgilde e.V. - ECPv6.15.16//NONSGML v1.0//EN
CALSCALE:GREGORIAN
METHOD:PUBLISH
X-ORIGINAL-URL:https://waidmannsgilde.de
X-WR-CALDESC:Veranstaltungen für Die Deutsche Waidmannsgilde e.V.
REFRESH-INTERVAL;VALUE=DURATION:PT1H
X-Robots-Tag:noindex
X-PUBLISHED-TTL:PT1H
BEGIN:VTIMEZONE
TZID:Europe/Berlin
BEGIN:DAYLIGHT
TZOFFSETFROM:+0100
TZOFFSETTO:+0200
TZNAME:CEST
DTSTART:20220327T010000
END:DAYLIGHT
BEGIN:STANDARD
TZOFFSETFROM:+0200
TZOFFSETTO:+0100
TZNAME:CET
DTSTART:20221030T010000
END:STANDARD
BEGIN:DAYLIGHT
TZOFFSETFROM:+0100
TZOFFSETTO:+0200
TZNAME:CEST
DTSTART:20230326T010000
END:DAYLIGHT
BEGIN:STANDARD
TZOFFSETFROM:+0200
TZOFFSETTO:+0100
TZNAME:CET
DTSTART:20231029T010000
END:STANDARD
BEGIN:DAYLIGHT
TZOFFSETFROM:+0100
TZOFFSETTO:+0200
TZNAME:CEST
DTSTART:20240331T010000
END:DAYLIGHT
BEGIN:STANDARD
TZOFFSETFROM:+0200
TZOFFSETTO:+0100
TZNAME:CET
DTSTART:20241027T010000
END:STANDARD
END:VTIMEZONE
BEGIN:VEVENT
DTSTART;TZID=Europe/Berlin:20231122T190000
DTEND;TZID=Europe/Berlin:20231122T210000
DTSTAMP:20260419T103734
CREATED:20230301T195738Z
LAST-MODIFIED:20231016T190221Z
UID:3554-1700679600-1700686800@waidmannsgilde.de
SUMMARY:DWG Stammtisch November
DESCRIPTION:Unser November-Stammtisch findet statt am \n22.11.2023 um 19:00 Uhr\nim Greek Stüberl\nSt.-Cajetan-Straße 1\n81669 München \nWir freuen uns auf Euer Kommen! \n 
URL:https://waidmannsgilde.de/termin/dwg-stammtisch-november-2/
LOCATION:Greek Stüberl\, St.-Cajetan-Str 1\, München\, 81669\, Deutschland
END:VEVENT
END:VCALENDAR