BEGIN:VCALENDAR
VERSION:2.0
PRODID:-//Die Deutsche Waidmannsgilde e.V. - ECPv6.15.20//NONSGML v1.0//EN
CALSCALE:GREGORIAN
METHOD:PUBLISH
X-WR-CALNAME:Die Deutsche Waidmannsgilde e.V.
X-ORIGINAL-URL:https://waidmannsgilde.de
X-WR-CALDESC:Veranstaltungen für Die Deutsche Waidmannsgilde e.V.
REFRESH-INTERVAL;VALUE=DURATION:PT1H
X-Robots-Tag:noindex
X-PUBLISHED-TTL:PT1H
BEGIN:VTIMEZONE
TZID:Europe/Berlin
BEGIN:DAYLIGHT
TZOFFSETFROM:+0100
TZOFFSETTO:+0200
TZNAME:CEST
DTSTART:20240331T010000
END:DAYLIGHT
BEGIN:STANDARD
TZOFFSETFROM:+0200
TZOFFSETTO:+0100
TZNAME:CET
DTSTART:20241027T010000
END:STANDARD
BEGIN:DAYLIGHT
TZOFFSETFROM:+0100
TZOFFSETTO:+0200
TZNAME:CEST
DTSTART:20250330T010000
END:DAYLIGHT
BEGIN:STANDARD
TZOFFSETFROM:+0200
TZOFFSETTO:+0100
TZNAME:CET
DTSTART:20251026T010000
END:STANDARD
BEGIN:DAYLIGHT
TZOFFSETFROM:+0100
TZOFFSETTO:+0200
TZNAME:CEST
DTSTART:20260329T010000
END:DAYLIGHT
BEGIN:STANDARD
TZOFFSETFROM:+0200
TZOFFSETTO:+0100
TZNAME:CET
DTSTART:20261025T010000
END:STANDARD
END:VTIMEZONE
BEGIN:VEVENT
DTSTART;TZID=Europe/Berlin:20251211T190000
DTEND;TZID=Europe/Berlin:20251211T230000
DTSTAMP:20260424T203427
CREATED:20251019T113651Z
LAST-MODIFIED:20251019T113651Z
UID:4160-1765479600-1765494000@waidmannsgilde.de
SUMMARY:Weihnachtsfeier 2025
DESCRIPTION:Die Weihnachtsfeier der Deutschen Waidmannsgilde e.V. findet statt am \n11. Dezember 2025\, um 19:00 Uhr\nim Königlichen Hirschgarten\,\nHirschgarten 1\, 80639 München \nIn feierlicher Umrahmung durch die Bläser der Deutschen Waidmannsgilde und mit weihnachtlicher Musik wollen wir beim gemeinsamen Festessen vorweihnachtliche Stunden und gute Gespräche genießen. \nWir bitten um Anmeldung unter antwort@waidmannsgilde.de
URL:https://waidmannsgilde.de/termin/weihnachtsfeier-2025/
LOCATION:Hirschgarten\, Hirschgarten 1\, München\, 80639\, Germany
END:VEVENT
END:VCALENDAR